BEGIN:VCALENDAR
VERSION:2.0
PRODID:-//wp-events-plugin.com//7.2.3.1//EN
BEGIN:VEVENT
UID:25@tsv-deuerling.de
DTSTART;TZID=Europe/Berlin:20240424T193000
DTEND;TZID=Europe/Berlin:20240424T220000
DTSTAMP:20240404T103933Z
URL:https://tsv-deuerling.de/veranstaltung/vereinsausschuss-sitzung-24-04-
 2024/
SUMMARY:Vereinsausschuss-Sitzung 24.04.2024
DESCRIPTION:
ATTACH;FMTTYPE=image/jpeg:https://tsv-deuerling.de/wp-content/uploads/2024
 /04/Internet_Vereinsausschussitzung.png
CATEGORIES:Ausschuss,TSV Deuerling
LOCATION:Brauerei Goss\, Regensburger Straße 16\, Deuerling\, Deutschland
X-APPLE-STRUCTURED-LOCATION;VALUE=URI;X-ADDRESS=Regensburger Straße 16\, D
 euerling\, Deutschland;X-APPLE-RADIUS=100;X-TITLE=Brauerei Goss:geo:0,0
END:VEVENT
BEGIN:VTIMEZONE
TZID:Europe/Berlin
X-LIC-LOCATION:Europe/Berlin
BEGIN:DAYLIGHT
DTSTART:20240331T030000
TZOFFSETFROM:+0100
TZOFFSETTO:+0200
TZNAME:CEST
END:DAYLIGHT
END:VTIMEZONE
END:VCALENDAR