BEGIN:VCALENDAR
VERSION:2.0
PRODID:-//wp-events-plugin.com//7.2.3.1//EN
BEGIN:VEVENT
UID:67@tsv-deuerling.de
DTSTART;TZID=Europe/Berlin:20240430T184500
DTEND;TZID=Europe/Berlin:20240430T204500
DTSTAMP:20240429T081243Z
URL:https://tsv-deuerling.de/veranstaltung/tsv-deuerling-djk-sv-1970-lenge
 nfeld/
SUMMARY:TSV Deuerling - DJK-SV 1970 Lengenfeld
DESCRIPTION:Kreisklasse 3 auf FuPa\n
ATTACH;FMTTYPE=image/jpeg:https://tsv-deuerling.de/wp-content/uploads/2024
 /04/tsv-deuerling-spiel-1.jpeg
CATEGORIES:Fußball,Wettbewerb
LOCATION:TSV Deuerling\, Steinerbrückler Weg 20\, Deuerling \, Bayern\, 93
 180\, Deutschland
X-APPLE-STRUCTURED-LOCATION;VALUE=URI;X-ADDRESS=Steinerbrückler Weg 20\, D
 euerling \, Bayern\, 93180\, Deutschland;X-APPLE-RADIUS=100;X-TITLE=TSV De
 uerling:geo:0,0
END:VEVENT
BEGIN:VTIMEZONE
TZID:Europe/Berlin
X-LIC-LOCATION:Europe/Berlin
BEGIN:DAYLIGHT
DTSTART:20240331T030000
TZOFFSETFROM:+0100
TZOFFSETTO:+0200
TZNAME:CEST
END:DAYLIGHT
END:VTIMEZONE
END:VCALENDAR