BEGIN:VCALENDAR
VERSION:2.0
PRODID:-//wp-events-plugin.com//7.2.3.1//EN
BEGIN:VEVENT
UID:12@tsv-deuerling.de
DTSTART;TZID=Europe/Berlin:20240516T183000
DTEND;TZID=Europe/Berlin:20240516T234500
DTSTAMP:20240314T070355Z
URL:https://tsv-deuerling.de/veranstaltung/trainingsabend-brunn-2024/
SUMMARY:Trainingsabend Brunn
DESCRIPTION:
ATTACH;FMTTYPE=image/jpeg:https://tsv-deuerling.de/wp-content/uploads/2023
 /08/logo.png
CATEGORIES:Stockschiessen,Turniere
END:VEVENT
BEGIN:VTIMEZONE
TZID:Europe/Berlin
X-LIC-LOCATION:Europe/Berlin
BEGIN:DAYLIGHT
DTSTART:20240331T030000
TZOFFSETFROM:+0100
TZOFFSETTO:+0200
TZNAME:CEST
END:DAYLIGHT
END:VTIMEZONE
END:VCALENDAR