BEGIN:VCALENDAR
VERSION:2.0
PRODID:-//wp-events-plugin.com//7.2.3.1//EN
BEGIN:VEVENT
UID:70@tsv-deuerling.de
DTSTART;TZID=Europe/Berlin:20250329T130000
DTEND;TZID=Europe/Berlin:20250329T160000
DTSTAMP:20250319T112420Z
URL:https://tsv-deuerling.de/veranstaltung/rama-dama-2025/
SUMMARY:RAMA DAMA 2025
DESCRIPTION:
ATTACH;FMTTYPE=image/jpeg:https://tsv-deuerling.de/wp-content/uploads/2023
 /08/logo.png
CATEGORIES:Veranstaltungen
LOCATION:TSV Deuerling\, Steinerbrückler Weg 20\, Deuerling \, Bayern\, 93
 180\, Deutschland
X-APPLE-STRUCTURED-LOCATION;VALUE=URI;X-ADDRESS=Steinerbrückler Weg 20\, D
 euerling \, Bayern\, 93180\, Deutschland;X-APPLE-RADIUS=100;X-TITLE=TSV De
 uerling:geo:0,0
END:VEVENT
BEGIN:VTIMEZONE
TZID:Europe/Berlin
X-LIC-LOCATION:Europe/Berlin
BEGIN:STANDARD
DTSTART:20241027T020000
TZOFFSETFROM:+0200
TZOFFSETTO:+0100
TZNAME:CET
END:STANDARD
END:VTIMEZONE
END:VCALENDAR