BEGIN:VCALENDAR
VERSION:2.0
PRODID:-//wp-events-plugin.com//7.2.3.1//EN
BEGIN:VEVENT
UID:26@tsv-deuerling.de
DTSTART;TZID=Europe/Berlin:20240511T120000
DTEND;TZID=Europe/Berlin:20240511T180000
DTSTAMP:20240404T152006Z
URL:https://tsv-deuerling.de/veranstaltung/1_spieltag_bananenflankenliga_2
 024/
SUMMARY:1. Spieltag der Bananenflankenliga 2024
DESCRIPTION:[pdf-embedder url="https://tsv-deuerling.de/wp-content/uploads/
 2024/04/Plakat_1.-Spieltag.pdf" width="550" toolbar="top"]
ATTACH;FMTTYPE=image/jpeg:https://tsv-deuerling.de/wp-content/uploads/2024
 /04/Plakat_1.-Spieltag-scaled.webp
CATEGORIES:TSV Deuerling,Veranstaltungen
LOCATION:TSV Deuerling\, Steinerbrückler Weg 20\, Deuerling \, Bayern\, 93
 180\, Deutschland
X-APPLE-STRUCTURED-LOCATION;VALUE=URI;X-ADDRESS=Steinerbrückler Weg 20\, D
 euerling \, Bayern\, 93180\, Deutschland;X-APPLE-RADIUS=100;X-TITLE=TSV De
 uerling:geo:0,0
END:VEVENT
BEGIN:VTIMEZONE
TZID:Europe/Berlin
X-LIC-LOCATION:Europe/Berlin
BEGIN:DAYLIGHT
DTSTART:20240331T030000
TZOFFSETFROM:+0100
TZOFFSETTO:+0200
TZNAME:CEST
END:DAYLIGHT
END:VTIMEZONE
END:VCALENDAR